BEGIN:VCALENDAR
VERSION:2.0
PRODID:-//Nellie Gail Ranch Owners Association - ECPv6.15.18//NONSGML v1.0//EN
CALSCALE:GREGORIAN
METHOD:PUBLISH
X-ORIGINAL-URL:https://nelliegailranch.org
X-WR-CALDESC:Events for Nellie Gail Ranch Owners Association
REFRESH-INTERVAL;VALUE=DURATION:PT1H
X-Robots-Tag:noindex
X-PUBLISHED-TTL:PT1H
BEGIN:VTIMEZONE
TZID:America/Los_Angeles
BEGIN:DAYLIGHT
TZOFFSETFROM:-0800
TZOFFSETTO:-0700
TZNAME:PDT
DTSTART:20230312T100000
END:DAYLIGHT
BEGIN:STANDARD
TZOFFSETFROM:-0700
TZOFFSETTO:-0800
TZNAME:PST
DTSTART:20231105T090000
END:STANDARD
BEGIN:DAYLIGHT
TZOFFSETFROM:-0800
TZOFFSETTO:-0700
TZNAME:PDT
DTSTART:20240310T100000
END:DAYLIGHT
BEGIN:STANDARD
TZOFFSETFROM:-0700
TZOFFSETTO:-0800
TZNAME:PST
DTSTART:20241103T090000
END:STANDARD
BEGIN:DAYLIGHT
TZOFFSETFROM:-0800
TZOFFSETTO:-0700
TZNAME:PDT
DTSTART:20250309T100000
END:DAYLIGHT
BEGIN:STANDARD
TZOFFSETFROM:-0700
TZOFFSETTO:-0800
TZNAME:PST
DTSTART:20251102T090000
END:STANDARD
END:VTIMEZONE
BEGIN:VEVENT
DTSTART;TZID=America/Los_Angeles:20241211T080000
DTEND;TZID=America/Los_Angeles:20241212T170000
DTSTAMP:20260421T033530
CREATED:20241203T191051Z
LAST-MODIFIED:20241203T191858Z
UID:10675-1733904000-1734022800@nelliegailranch.org
SUMMARY:Holiday Home Decorating Contest
DESCRIPTION:Sign Up Form
URL:https://nelliegailranch.org/events/holiday-home-decorating-contest/
CATEGORIES:Concerts,Events,General,The Watering Hole,Watering Hole,Wine Tasting
ATTACH;FMTTYPE=image/jpeg:https://nelliegailranch.org/wp-content/uploads/homedec20241.jpg
END:VEVENT
END:VCALENDAR